BEGIN:VCALENDAR
VERSION:2.0
PRODID:-//The Farm Grenagh County Cork - ECPv4.6.1//NONSGML v1.0//EN
CALSCALE:GREGORIAN
METHOD:PUBLISH
X-WR-CALNAME:The Farm Grenagh County Cork
X-ORIGINAL-URL:http://visitthefarm.ie
X-WR-CALDESC:Events for The Farm Grenagh County Cork
BEGIN:VEVENT
DTSTART;VALUE=DATE:20171028
DTEND;VALUE=DATE:20171101
DTSTAMP:20171024T034558
CREATED:20161010T141001Z
LAST-MODIFIED:20171023T091414Z
UID:2353-1509148800-1509494399@visitthefarm.ie
SUMMARY:Halloween At The Farm
DESCRIPTION:  \n \nHelp the Good Witch\, Esmeralda\, get ready her tricks & treats ready for Halloween \nVisit the Pumpkin Patch  and choose the Pumpkin that’s just right for you. \nThe children will help the Good Witch\, Esmeralda\, to practice her spells for Halloween and make some sweet treats to take home. \nThere is lots of pumpkins to choose from. Choose the one that is just right for you and the witches will carve it with you. \n  \n\n  \n
URL:http://visitthefarm.ie/event/halloween-at-the-farm/
LOCATION:The Farm Grenagh\, Co Cork\, Cork\, Ireland
CATEGORIES:Calendar
ATTACH;FMTTYPE=image/png:http://visitthefarm.ie/wp-content/uploads/Halloween-At-The-Farm-2016-Header.png
END:VEVENT
BEGIN:VEVENT
DTSTART;TZID=Europe/Dublin:20171203T150000
DTEND;TZID=Europe/Dublin:20171203T170000
DTSTAMP:20171024T034558
CREATED:20171020T182907Z
LAST-MODIFIED:20171020T183348Z
UID:2833-1512313200-1512320400@visitthefarm.ie
SUMMARY:Christmas Wonderland At The Farm 2017
DESCRIPTION:\n  \nTake a special trip to see Santa Claus on our 45 minute\, mostly indoor Christmas Wonderland experience! \nThe fun starts as soon as you arrive at The Farm\, with jolly Christmas elves scurrying around bringing visitors on the wheelchair accessible train to meet Santa and Mrs. Claus. \nTrips to the North Pole depart every 10 minutes! \n** Professional Photography by Fota Foto also available  \n€12.50 for 2 4×6 photos presented in a souvenir card ** \n \n  \nClick To Book Tickets Online\n  \nChristmas Wonderland at The Farm Grenagh Co. Cork is just 15 minutes from both Mallow and Cork City. \nBookings must be made in advance\, so BOOK NOW below or call the Christmas Wonderland hotline on (021) 462 9816….Ho Ho Ho! \nChildren over 2 – €16 (including present) \nInfants under 2 go FREE – no need to book them through the system \n  \nShare The Event With Your FriendsShare on FacebookShare on TwitterShare on PinterestShare on LinkedinShare by Mail\n  \n
URL:http://visitthefarm.ie/event/christmas-wonderland-farm-2017/
LOCATION:The Farm Grenagh\, Co Cork\, Cork\, Ireland
CATEGORIES:Calendar
ATTACH;FMTTYPE=image/jpeg:http://visitthefarm.ie/wp-content/uploads/Christmas-Wonderland-Farm-Grenagh-2017-Website-Event-.jpg
END:VEVENT
BEGIN:VEVENT
DTSTART;TZID=Europe/Dublin:20171209T140000
DTEND;TZID=Europe/Dublin:20171209T172000
DTSTAMP:20171024T034558
CREATED:20171020T184941Z
LAST-MODIFIED:20171020T185508Z
UID:2839-1512828000-1512840000@visitthefarm.ie
SUMMARY:Christmas Wonderland At The Farm 2017
DESCRIPTION:\n  \nTake a special trip to see Santa Claus on our 45 minute\, mostly indoor Christmas Wonderland experience! \nThe fun starts as soon as you arrive at The Farm\, with jolly Christmas elves scurrying around bringing visitors on the wheelchair accessible train to meet Santa and Mrs. Claus. \nTrips to the North Pole depart every 10 minutes! \n** Professional Photography by Fota Foto also available  \n€12.50 for 2 4×6 photos presented in a souvenir card ** \n \n  \nClick To Book Tickets Online\n  \nChristmas Wonderland at The Farm Grenagh Co. Cork is just 15 minutes from both Mallow and Cork City. \nBookings must be made in advance\, so BOOK NOW below or call the Christmas Wonderland hotline on (021) 462 9816….Ho Ho Ho! \nChildren over 2 – €16 (including present) \nInfants under 2 go FREE – no need to book them through the system \n  \nShare The Event With Your FriendsShare on FacebookShare on TwitterShare on PinterestShare on LinkedinShare by Mail\n  \n
URL:http://visitthefarm.ie/event/2839/
LOCATION:The Farm Grenagh\, Co Cork\, Cork\, Ireland
CATEGORIES:Calendar
ATTACH;FMTTYPE=image/jpeg:http://visitthefarm.ie/wp-content/uploads/Christmas-Wonderland-Farm-Grenagh-2017-Website-Event-.jpg
END:VEVENT
BEGIN:VEVENT
DTSTART;TZID=Europe/Dublin:20171210T130000
DTEND;TZID=Europe/Dublin:20171210T180000
DTSTAMP:20171024T034558
CREATED:20171020T185407Z
LAST-MODIFIED:20171020T185407Z
UID:2842-1512910800-1512928800@visitthefarm.ie
SUMMARY:Christmas Wonderland At The Farm 2017
DESCRIPTION:\n  \nTake a special trip to see Santa Claus on our 45 minute\, mostly indoor Christmas Wonderland experience! \nThe fun starts as soon as you arrive at The Farm\, with jolly Christmas elves scurrying around bringing visitors on the wheelchair accessible train to meet Santa and Mrs. Claus. \nTrips to the North Pole depart every 10 minutes! \n** Professional Photography by Fota Foto also available  \n€12.50 for 2 4×6 photos presented in a souvenir card ** \n \n  \nClick To Book Tickets Online\n  \nChristmas Wonderland at The Farm Grenagh Co. Cork is just 15 minutes from both Mallow and Cork City. \nBookings must be made in advance\, so BOOK NOW below or call the Christmas Wonderland hotline on (021) 462 9816….Ho Ho Ho! \nChildren over 2 – €16 (including present) \nInfants under 2 go FREE – no need to book them through the system \n  \nShare The Event With Your FriendsShare on FacebookShare on TwitterShare on PinterestShare on LinkedinShare by Mail\n  \n
URL:http://visitthefarm.ie/event/christmas-wonderland-farm-2017-2/
LOCATION:The Farm Grenagh\, Co Cork\, Cork\, Ireland
CATEGORIES:Calendar
ATTACH;FMTTYPE=image/jpeg:http://visitthefarm.ie/wp-content/uploads/Christmas-Wonderland-Farm-Grenagh-2017-Website-Event-.jpg
END:VEVENT
BEGIN:VEVENT
DTSTART;TZID=Europe/Dublin:20171216T130000
DTEND;TZID=Europe/Dublin:20171216T180000
DTSTAMP:20171024T034558
CREATED:20171020T185743Z
LAST-MODIFIED:20171020T185813Z
UID:2849-1513429200-1513447200@visitthefarm.ie
SUMMARY:Christmas Wonderland At The Farm 2017
DESCRIPTION:\n  \nTake a special trip to see Santa Claus on our 45 minute\, mostly indoor Christmas Wonderland experience! \nThe fun starts as soon as you arrive at The Farm\, with jolly Christmas elves scurrying around bringing visitors on the wheelchair accessible train to meet Santa and Mrs. Claus. \nTrips to the North Pole depart every 10 minutes! \n** Professional Photography by Fota Foto also available  \n€12.50 for 2 4×6 photos presented in a souvenir card ** \n \n  \nClick To Book Tickets Online\n  \nChristmas Wonderland at The Farm Grenagh Co. Cork is just 15 minutes from both Mallow and Cork City. \nBookings must be made in advance\, so BOOK NOW below or call the Christmas Wonderland hotline on (021) 462 9816….Ho Ho Ho! \nChildren over 2 – €16 (including present) \nInfants under 2 go FREE – no need to book them through the system \n  \nShare The Event With Your FriendsShare on FacebookShare on TwitterShare on PinterestShare on LinkedinShare by Mail\n  \n
URL:http://visitthefarm.ie/event/christmas-wonderland-farm-2017-3/
LOCATION:The Farm Grenagh\, Co Cork\, Cork\, Ireland
CATEGORIES:Calendar
ATTACH;FMTTYPE=image/jpeg:http://visitthefarm.ie/wp-content/uploads/Christmas-Wonderland-Farm-Grenagh-2017-Website-Event-.jpg
END:VEVENT
BEGIN:VEVENT
DTSTART;TZID=Europe/Dublin:20171217T120000
DTEND;TZID=Europe/Dublin:20171217T183000
DTSTAMP:20171024T034558
CREATED:20171020T194049Z
LAST-MODIFIED:20171020T194049Z
UID:2852-1513512000-1513535400@visitthefarm.ie
SUMMARY:Christmas Wonderland At The Farm 2017
DESCRIPTION:\n  \nTake a special trip to see Santa Claus on our 45 minute\, mostly indoor Christmas Wonderland experience! \nThe fun starts as soon as you arrive at The Farm\, with jolly Christmas elves scurrying around bringing visitors on the wheelchair accessible train to meet Santa and Mrs. Claus. \nTrips to the North Pole depart every 10 minutes! \n** Professional Photography by Fota Foto also available  \n€12.50 for 2 4×6 photos presented in a souvenir card ** \n \n  \nClick To Book Tickets Online\n  \nChristmas Wonderland at The Farm Grenagh Co. Cork is just 15 minutes from both Mallow and Cork City. \nBookings must be made in advance\, so BOOK NOW below or call the Christmas Wonderland hotline on (021) 462 9816….Ho Ho Ho! \nChildren over 2 – €16 (including present) \nInfants under 2 go FREE – no need to book them through the system \n  \nShare The Event With Your FriendsShare on FacebookShare on TwitterShare on PinterestShare on LinkedinShare by Mail\n  \n
URL:http://visitthefarm.ie/event/christmas-wonderland-farm-2017-4/
LOCATION:The Farm Grenagh\, Co Cork\, Cork\, Ireland
CATEGORIES:Calendar
ATTACH;FMTTYPE=image/jpeg:http://visitthefarm.ie/wp-content/uploads/Christmas-Wonderland-Farm-Grenagh-2017-Website-Event-.jpg
END:VEVENT
BEGIN:VEVENT
DTSTART;TZID=Europe/Dublin:20171222T170000
DTEND;TZID=Europe/Dublin:20171222T183000
DTSTAMP:20171024T034558
CREATED:20171020T194439Z
LAST-MODIFIED:20171020T200346Z
UID:2856-1513962000-1513967400@visitthefarm.ie
SUMMARY:Christmas Wonderland At The Farm 2017
DESCRIPTION:\n  \nTake a special trip to see Santa Claus on our 45 minute\, mostly indoor Christmas Wonderland experience! \nThe fun starts as soon as you arrive at The Farm\, with jolly Christmas elves scurrying around bringing visitors on the wheelchair accessible train to meet Santa and Mrs. Claus. \nTrips to the North Pole depart every 10 minutes! \n** Professional Photography by Fota Foto also available  \n€12.50 for 2 4×6 photos presented in a souvenir card ** \n \n  \nClick To Book Tickets Online\n  \nChristmas Wonderland at The Farm Grenagh Co. Cork is just 15 minutes from both Mallow and Cork City. \nBookings must be made in advance\, so BOOK NOW below or call the Christmas Wonderland hotline on (021) 462 9816….Ho Ho Ho! \nChildren over 2 – €16 (including present) \nInfants under 2 go FREE – no need to book them through the system \n  \nShare The Event With Your FriendsShare on FacebookShare on TwitterShare on PinterestShare on LinkedinShare by Mail\n  \n
URL:http://visitthefarm.ie/event/christmas-wonderland-farm-2017-5/
LOCATION:The Farm Grenagh\, Co Cork\, Cork\, Ireland
CATEGORIES:Calendar
ATTACH;FMTTYPE=image/jpeg:http://visitthefarm.ie/wp-content/uploads/Christmas-Wonderland-Farm-Grenagh-2017-Website-Event-.jpg
END:VEVENT
BEGIN:VEVENT
DTSTART;TZID=Europe/Dublin:20171223T140000
DTEND;TZID=Europe/Dublin:20171223T180000
DTSTAMP:20171024T034558
CREATED:20171020T194715Z
LAST-MODIFIED:20171020T194715Z
UID:2859-1514037600-1514052000@visitthefarm.ie
SUMMARY:Christmas Wonderland At The Farm 2017
DESCRIPTION:\n  \nTake a special trip to see Santa Claus on our 45 minute\, mostly indoor Christmas Wonderland experience! \nThe fun starts as soon as you arrive at The Farm\, with jolly Christmas elves scurrying around bringing visitors on the wheelchair accessible train to meet Santa and Mrs. Claus. \nTrips to the North Pole depart every 10 minutes! \n** Professional Photography by Fota Foto also available  \n€12.50 for 2 4×6 photos presented in a souvenir card ** \n \n  \nClick To Book Tickets Online\n  \nChristmas Wonderland at The Farm Grenagh Co. Cork is just 15 minutes from both Mallow and Cork City. \nBookings must be made in advance\, so BOOK NOW below or call the Christmas Wonderland hotline on (021) 462 9816….Ho Ho Ho! \nChildren over 2 – €16 (including present) \nInfants under 2 go FREE – no need to book them through the system \n  \nShare The Event With Your FriendsShare on FacebookShare on TwitterShare on PinterestShare on LinkedinShare by Mail\n  \n
URL:http://visitthefarm.ie/event/christmas-wonderland-farm-2017-6/
LOCATION:The Farm Grenagh\, Co Cork\, Cork\, Ireland
CATEGORIES:Calendar
ATTACH;FMTTYPE=image/jpeg:http://visitthefarm.ie/wp-content/uploads/Christmas-Wonderland-Farm-Grenagh-2017-Website-Event-.jpg
END:VEVENT
END:VCALENDAR